BEGIN:VCALENDAR
VERSION:2.0
PRODID:-//Save Our Park Board - ECPv6.15.17.1//NONSGML v1.0//EN
CALSCALE:GREGORIAN
METHOD:PUBLISH
X-ORIGINAL-URL:https://saveourparkboard.ca
X-WR-CALDESC:Events for Save Our Park Board
REFRESH-INTERVAL;VALUE=DURATION:PT1H
X-Robots-Tag:noindex
X-PUBLISHED-TTL:PT1H
BEGIN:VTIMEZONE
TZID:America/Halifax
BEGIN:DAYLIGHT
TZOFFSETFROM:-0400
TZOFFSETTO:-0300
TZNAME:ADT
DTSTART:20230312T060000
END:DAYLIGHT
BEGIN:STANDARD
TZOFFSETFROM:-0300
TZOFFSETTO:-0400
TZNAME:AST
DTSTART:20231105T050000
END:STANDARD
BEGIN:DAYLIGHT
TZOFFSETFROM:-0400
TZOFFSETTO:-0300
TZNAME:ADT
DTSTART:20240310T060000
END:DAYLIGHT
BEGIN:STANDARD
TZOFFSETFROM:-0300
TZOFFSETTO:-0400
TZNAME:AST
DTSTART:20241103T050000
END:STANDARD
BEGIN:DAYLIGHT
TZOFFSETFROM:-0400
TZOFFSETTO:-0300
TZNAME:ADT
DTSTART:20250309T060000
END:DAYLIGHT
BEGIN:STANDARD
TZOFFSETFROM:-0300
TZOFFSETTO:-0400
TZNAME:AST
DTSTART:20251102T050000
END:STANDARD
END:VTIMEZONE
BEGIN:VTIMEZONE
TZID:America/Vancouver
BEGIN:DAYLIGHT
TZOFFSETFROM:-0800
TZOFFSETTO:-0700
TZNAME:PDT
DTSTART:20230312T100000
END:DAYLIGHT
BEGIN:STANDARD
TZOFFSETFROM:-0700
TZOFFSETTO:-0800
TZNAME:PST
DTSTART:20231105T090000
END:STANDARD
BEGIN:DAYLIGHT
TZOFFSETFROM:-0800
TZOFFSETTO:-0700
TZNAME:PDT
DTSTART:20240310T100000
END:DAYLIGHT
BEGIN:STANDARD
TZOFFSETFROM:-0700
TZOFFSETTO:-0800
TZNAME:PST
DTSTART:20241103T090000
END:STANDARD
BEGIN:DAYLIGHT
TZOFFSETFROM:-0800
TZOFFSETTO:-0700
TZNAME:PDT
DTSTART:20250309T100000
END:DAYLIGHT
BEGIN:STANDARD
TZOFFSETFROM:-0700
TZOFFSETTO:-0800
TZNAME:PST
DTSTART:20251102T090000
END:STANDARD
END:VTIMEZONE
BEGIN:VEVENT
DTSTART;TZID=America/Halifax:20241012T090000
DTEND;TZID=America/Halifax:20241012T140000
DTSTAMP:20260422T191702
CREATED:20240919T202824Z
LAST-MODIFIED:20241007T142622Z
UID:898-1728723600-1728741600@saveourparkboard.ca
SUMMARY:#SaveOurParkBoard @ the Market - VARIOUS DATES
DESCRIPTION:We plan on being at the farmers markets to talk to folks about our #SaveOurParkBoard campaign\, so please come visit us at: these locations for the next few weeks!\n\n\nRiley Park – Farmers Market\, Saturday\, September 28 – 10 am – 2 pm\nKitsilano Community Centre – Farmers Market\, Sunday\, October 6 – 10 am – 2 pm\nTrout Lake Farmers Market – Saturday\, October 12 – 9 am – 2 pm\n\n\n\nSign our petition and learn more about the Vancouver Park Board. Hope to see you all there!
URL:https://saveourparkboard.ca/event/saveourparkboard-the-market/
LOCATION:Riley Park\, 50 East 30th Avenue &\, Ontario St\,\, Vancouver\, BC\, V5V 2V1\, Canada
CATEGORIES:Petition and Info Table
ATTACH;FMTTYPE=image/png:https://saveourparkboard.ca/wp-content/uploads/2024/09/marketweb.png
ORGANIZER;CN="#SAVEOURPARKBOARD":MAILTO:info@saveourparkboard.ca
END:VEVENT
BEGIN:VEVENT
DTSTART;TZID=America/Vancouver:20241009T190000
DTEND;TZID=America/Vancouver:20241009T210000
DTSTAMP:20260422T191702
CREATED:20240926T212520Z
LAST-MODIFIED:20240926T212615Z
UID:1079-1728500400-1728507600@saveourparkboard.ca
SUMMARY:Renfrew Community Centre All Candidates Meeting Oct 9
DESCRIPTION:For the riding of Vancouver Renfrew.
URL:https://saveourparkboard.ca/event/renfrew-community-centre-all-candidates-meeting-oct-9/
LOCATION:Renfrew CC\, 2929 E 22nd Ave\, Vancouver\, BC\, V5M 2Y3\, Canada
CATEGORIES:All Candidate Meetings
ATTACH;FMTTYPE=image/png:https://saveourparkboard.ca/wp-content/uploads/2024/09/renfrew.png
ORGANIZER;CN="#SAVEOURPARKBOARD":MAILTO:info@saveourparkboard.ca
END:VEVENT
BEGIN:VEVENT
DTSTART;TZID=America/Halifax:20241009T180000
DTEND;TZID=America/Halifax:20241009T200000
DTSTAMP:20260422T191702
CREATED:20240925T214814Z
LAST-MODIFIED:20240925T215859Z
UID:1026-1728496800-1728504000@saveourparkboard.ca
SUMMARY:Britannia Community Centre All Candidates Meeting Wednesday Oct 9
DESCRIPTION:For the ridings of Vancouver-Hastings and Vancouver-Strathcona in Britannia\, Gym D\, Wednesday October 9\, from 6-8 PM
URL:https://saveourparkboard.ca/event/britannia-community-centre-all-candidates-meeting-saturday-sept-28/
LOCATION:Britannia Community Centre\, 1661 Napier St\, Vancouver\, BC\, V5L 4X4\, Canada
CATEGORIES:All Candidate Meetings
ATTACH;FMTTYPE=image/png:https://saveourparkboard.ca/wp-content/uploads/2024/09/britweb2.png
ORGANIZER;CN="#SAVEOURPARKBOARD":MAILTO:info@saveourparkboard.ca
END:VEVENT
BEGIN:VEVENT
DTSTART;TZID=America/Vancouver:20241009T173000
DTEND;TZID=America/Vancouver:20241009T200000
DTSTAMP:20260422T191702
CREATED:20241009T155453Z
LAST-MODIFIED:20241009T155627Z
UID:1129-1728495000-1728504000@saveourparkboard.ca
SUMMARY:Kitsilano-Point Grey All Candidates Town Hall Oct. 12
DESCRIPTION:Point Grey Constituency \nScan here or Register \nat: bit.ly/vpgtownhall \nAttend an opportunity with the Vancouver-Point Grey candidates to hear their vision\, respond to questions\, and\nengage in discussions shaping our community’s future. \n\nPaul\nRatchford\nCONSERVATIVE \nDevyani\nSingh\nGREEN \nDavid\nEby\nNDP \nDoors Open at 5:30 pm
URL:https://saveourparkboard.ca/event/kitsilano-point-grey/
LOCATION:St. James Community Square\, 3214 West 10th Ave\, Vancouver\, BC\, Canada
CATEGORIES:All Candidate Meetings
ATTACH;FMTTYPE=image/png:https://saveourparkboard.ca/wp-content/uploads/2024/10/Kitsilano-Point-Grey-All-Candidates-Townhall.png
END:VEVENT
BEGIN:VEVENT
DTSTART;TZID=America/Halifax:20241008T180000
DTEND;TZID=America/Halifax:20241008T200000
DTSTAMP:20260422T191702
CREATED:20240925T224149Z
LAST-MODIFIED:20240926T212916Z
UID:1038-1728410400-1728417600@saveourparkboard.ca
SUMMARY:West End Coal Harbour Community Centre All Candidates Meeting Oct 8
DESCRIPTION:All candidates meeting for the riding of Vancouver West End.
URL:https://saveourparkboard.ca/event/west-end-coal-harbour-community-centre-all-candidates-meeting-oct-8/
LOCATION:West End-Coal Harbour Community Centre\, 870 Denman St.\, Vancouver\, BC\, V6G 2L8\, Canada
CATEGORIES:All Candidate Meetings
ATTACH;FMTTYPE=image/png:https://saveourparkboard.ca/wp-content/uploads/2024/09/WEnd.png
ORGANIZER;CN="#SAVEOURPARKBOARD":MAILTO:info@saveourparkboard.ca
END:VEVENT
BEGIN:VEVENT
DTSTART;TZID=America/Vancouver:20241006T110000
DTEND;TZID=America/Vancouver:20241006T150000
DTSTAMP:20260422T191702
CREATED:20241003T201129Z
LAST-MODIFIED:20241003T201629Z
UID:1107-1728212400-1728226800@saveourparkboard.ca
SUMMARY:Sign the Petition Table at the West End CC Oct 6
DESCRIPTION:Come visit us and sign the petition! We will have info on the issue and a chance for you to show your support to #saveourParkBoard.
URL:https://saveourparkboard.ca/event/sign-the-petition-table-at-the-west-end-cc/
LOCATION:West End-Coal Harbour Community Centre\, 870 Denman St.\, Vancouver\, BC\, V6G 2L8\, Canada
CATEGORIES:Petition and Info Table
ATTACH;FMTTYPE=image/png:https://saveourparkboard.ca/wp-content/uploads/2024/10/petitioweb.png
END:VEVENT
BEGIN:VEVENT
DTSTART;TZID=America/Vancouver:20241003T190000
DTEND;TZID=America/Vancouver:20241003T210000
DTSTAMP:20260422T191702
CREATED:20240926T212222Z
LAST-MODIFIED:20240926T212235Z
UID:1075-1727982000-1727989200@saveourparkboard.ca
SUMMARY:False Creek Community Centre All Candidates Meeting Oct 3
DESCRIPTION:For the riding of Vancouver South Granville.
URL:https://saveourparkboard.ca/event/false-creek-community-centre-all-candidates-meeting-oct-3/
LOCATION:False Creek Community Centre\, 1318 Cartwright St\,\, Vancouver\, BC\, V6H 3R8\, Canada
CATEGORIES:All Candidate Meetings
ATTACH;FMTTYPE=image/png:https://saveourparkboard.ca/wp-content/uploads/2024/09/false.png
ORGANIZER;CN="#SAVEOURPARKBOARD":MAILTO:info@saveourparkboard.ca
END:VEVENT
BEGIN:VEVENT
DTSTART;TZID=America/Halifax:20241002T190000
DTEND;TZID=America/Halifax:20241002T210000
DTSTAMP:20260422T191702
CREATED:20240925T220634Z
LAST-MODIFIED:20241001T001913Z
UID:1032-1727895600-1727902800@saveourparkboard.ca
SUMMARY:Roundhouse Community Centre All Candidates Meeting Oct. 2
DESCRIPTION:For the riding of Vancouver Yaletown
URL:https://saveourparkboard.ca/event/roundhouse-community-centre-all-candidates-meeting-oct-2/
LOCATION:Roundhouse Community Centre\, 181 Roundhouse Mews\, Vancouver\, BC\, V6Z 2W3\, Canada
CATEGORIES:All Candidate Meetings
ATTACH;FMTTYPE=image/png:https://saveourparkboard.ca/wp-content/uploads/2024/09/roundhouse2.png
ORGANIZER;CN="#SAVEOURPARKBOARD":MAILTO:info@saveourparkboard.ca
END:VEVENT
BEGIN:VEVENT
DTSTART;TZID=America/Halifax:20240926T190000
DTEND;TZID=America/Halifax:20240926T210000
DTSTAMP:20260422T191702
CREATED:20240920T212748Z
LAST-MODIFIED:20240921T184614Z
UID:930-1727377200-1727384400@saveourparkboard.ca
SUMMARY:Kerrisdale Community Centre All Candidates Meeting\, Thurs. Sept. 26
DESCRIPTION:Representing the riding of Vancouver Quilchena
URL:https://saveourparkboard.ca/event/kerrisdale-community-centre-all-candidates-meeting/
LOCATION:Kerrisdale Community Centre\, 5851 West Blvd\, Vancouver\, BC\, V6M 3W9\, Canada
CATEGORIES:All Candidate Meetings
ATTACH;FMTTYPE=image/png:https://saveourparkboard.ca/wp-content/uploads/2024/09/kerrisdaleweb.png
ORGANIZER;CN="#SAVEOURPARKBOARD":MAILTO:info@saveourparkboard.ca
END:VEVENT
BEGIN:VEVENT
DTSTART;TZID=America/Halifax:20240926T180000
DTEND;TZID=America/Halifax:20240926T200000
DTSTAMP:20260422T191702
CREATED:20240917T221919Z
LAST-MODIFIED:20240925T222606Z
UID:860-1727373600-1727380800@saveourparkboard.ca
SUMMARY:Killarney Community Centre All Candidates Meeting\, Thurs. Sept 26
DESCRIPTION:For the ridings of Vancouver Fraserview\, Vancouver Kensington and Vancouver Langara. \nPLEASE REGISTER YOUR ATTENDANCE AT https://tinyurl.com/svnhtownhall
URL:https://saveourparkboard.ca/event/all-candidates-meeting/
LOCATION:Killarney Community Centre\, 6260 Killarney St\, Vancouver\, BC\, V5S 2X7\, Canada
CATEGORIES:All Candidate Meetings
ATTACH;FMTTYPE=image/png:https://saveourparkboard.ca/wp-content/uploads/2024/09/killarneyweb.png
ORGANIZER;CN="#SAVEOURPARKBOARD":MAILTO:info@saveourparkboard.ca
END:VEVENT
END:VCALENDAR